BEGIN:VCALENDAR
VERSION:2.0
PRODID:-//Mairie de Collioure - ECPv6.15.20//NONSGML v1.0//EN
CALSCALE:GREGORIAN
METHOD:PUBLISH
X-WR-CALNAME:Mairie de Collioure
X-ORIGINAL-URL:https://collioure.fr
X-WR-CALDESC:Évènements pour Mairie de Collioure
REFRESH-INTERVAL;VALUE=DURATION:PT1H
X-Robots-Tag:noindex
X-PUBLISHED-TTL:PT1H
BEGIN:VTIMEZONE
TZID:Europe/Paris
BEGIN:DAYLIGHT
TZOFFSETFROM:+0100
TZOFFSETTO:+0200
TZNAME:CEST
DTSTART:20240331T010000
END:DAYLIGHT
BEGIN:STANDARD
TZOFFSETFROM:+0200
TZOFFSETTO:+0100
TZNAME:CET
DTSTART:20241027T010000
END:STANDARD
BEGIN:DAYLIGHT
TZOFFSETFROM:+0100
TZOFFSETTO:+0200
TZNAME:CEST
DTSTART:20250330T010000
END:DAYLIGHT
BEGIN:STANDARD
TZOFFSETFROM:+0200
TZOFFSETTO:+0100
TZNAME:CET
DTSTART:20251026T010000
END:STANDARD
BEGIN:DAYLIGHT
TZOFFSETFROM:+0100
TZOFFSETTO:+0200
TZNAME:CEST
DTSTART:20260329T010000
END:DAYLIGHT
BEGIN:STANDARD
TZOFFSETFROM:+0200
TZOFFSETTO:+0100
TZNAME:CET
DTSTART:20261025T010000
END:STANDARD
BEGIN:DAYLIGHT
TZOFFSETFROM:+0100
TZOFFSETTO:+0200
TZNAME:CEST
DTSTART:20270328T010000
END:DAYLIGHT
BEGIN:STANDARD
TZOFFSETFROM:+0200
TZOFFSETTO:+0100
TZNAME:CET
DTSTART:20271031T010000
END:STANDARD
END:VTIMEZONE
BEGIN:VEVENT
DTSTART;TZID=Europe/Paris:20251018T080000
DTEND;TZID=Europe/Paris:20260104T170000
DTSTAMP:20260423T163707
CREATED:20251016T145018Z
LAST-MODIFIED:20251126T153535Z
UID:11466-1760774400-1767546000@collioure.fr
SUMMARY:Exposition : "Les Américaines" - Emilie Dumas
DESCRIPTION:
URL:https://collioure.fr/event/exposition-les-americaines-emile-dumas/
LOCATION:Musée de Collioure\, 4 route de Port-Vendres\, COLLIOURE\, 66190\, France
CATEGORIES:Agenda Complet,Agenda Culturel,Agenda sur l'Accueil
ATTACH;FMTTYPE=image/jpeg:https://collioure.fr/wp-content/uploads/2025/10/Affiche-Les-Americaines-musee-Collioure-JPEG.jpg
END:VEVENT
BEGIN:VEVENT
DTSTART;VALUE=DATE:20251130
DTEND;VALUE=DATE:20251208
DTSTAMP:20260423T163707
CREATED:20251119T151928Z
LAST-MODIFIED:20251119T151939Z
UID:12207-1764460800-1765151999@collioure.fr
SUMMARY:Téléthon 2025
DESCRIPTION:
URL:https://collioure.fr/event/telethon-2025/
LOCATION:Sélectionner un État :
CATEGORIES:Actualités Sportives,Agenda Complet,Agenda Culturel,Agenda sur l'Accueil
ATTACH;FMTTYPE=image/jpeg:https://collioure.fr/wp-content/uploads/2025/11/PROGRAMME-2025-telethon.jpg
END:VEVENT
BEGIN:VEVENT
DTSTART;TZID=Europe/Paris:20251202T150000
DTEND;TZID=Europe/Paris:20251202T190000
DTSTAMP:20260423T163707
CREATED:20251117T154454Z
LAST-MODIFIED:20251117T154454Z
UID:12158-1764687600-1764702000@collioure.fr
SUMMARY:Don du sang
DESCRIPTION:
URL:https://collioure.fr/event/don-du-sang-3/
LOCATION:Centre Culturel de Collioure\, rue Michelet\, Collioure\, 66190\, France
CATEGORIES:Agenda Complet
END:VEVENT
BEGIN:VEVENT
DTSTART;VALUE=DATE:20251205
DTEND;VALUE=DATE:20260105
DTSTAMP:20260423T163707
CREATED:20251204T151423Z
LAST-MODIFIED:20251204T151423Z
UID:12291-1764892800-1767571199@collioure.fr
SUMMARY:Exposition Collective - Hommage à Alain Vilacèque
DESCRIPTION:
URL:https://collioure.fr/event/exposition-collective-hommage-a-alain-vilaceque/
LOCATION:Galerie du Tenyidor\, Rue de la Prud'homie\, Collioure\, Sélectionner un État :\, 66190\, France
CATEGORIES:Agenda Complet,Agenda Culturel,Agenda sur l'Accueil
ATTACH;FMTTYPE=image/jpeg:https://collioure.fr/wp-content/uploads/2025/12/LES-ARTISTES-DE-COLLIOURE-2025-AFFICHE-ORIGINALE.jpg
END:VEVENT
BEGIN:VEVENT
DTSTART;TZID=Europe/Paris:20251205T080000
DTEND;TZID=Europe/Paris:20251205T080000
DTSTAMP:20260423T163707
CREATED:20251209T152445Z
LAST-MODIFIED:20251209T152445Z
UID:12339-1764921600-1764921600@collioure.fr
SUMMARY:7915 euros pour la recherche contre le cancer du sein\, record battu
DESCRIPTION:la campagne 2025 pour la prévention\, la recherche et l’accompagnement des femmes touchées par le cancer du sein a dépassé toutes les espérances en ce mois d’Octobre rose. \nLe chèque de 7845  euros complété par les dernières ventes (70 euros) du livre du Docteur Capdet\, passionné de l’histoire du Roussillon\, remis officiellement par Guy Llobet le maire de Collioure au Docteur Annie Clottes\, présidente de la Ligue contre le cancer des Pyrénées-Orientales\, montre une fois de plus la générosité et l’intérêt des Colliourencs pour la lutte contre ce fléau qui frappe majoritairement  les femmes. Coordonnée par les bénévoles « les Petites mains » particulièrement vaillantes\, inventives et inlassables\, l’action activement soutenue par la mairie a mobilisé les associations du village\, le Campanar sardanista\, UFANA\, le club rando\, le rugby\, US Côte rocheuse\, les Bizzar’s\, la Croix rouge et le club de basket. Michèle Ducla\, élue déléguée à l’action sociale\, référente de l’antenne Côte Vermeille de la ligue contre le cancer\, entourée par Anne Barboteu et Caroline Rière rappelait les précautions élémentaires à prendre pour éviter ces funestes cancers.  » Il est indispensable de faire de la prévention primaire\, éviter l’alcool\, le tabac et privilégier les activités physiques\, veiller à son alimentation sans oublier le dépistage »\, martelait-elle\, déplorant également les méfaits de la pollution.
URL:https://collioure.fr/event/7915-euros-pour-la-recherche-contre-le-cancer-du-sein-record-battu/
LOCATION:Sélectionner un État :
CATEGORIES:Accueil Actualité vignettes droites
ATTACH;FMTTYPE=image/jpeg:https://collioure.fr/wp-content/uploads/2025/12/3676863417161048567.jpg
END:VEVENT
BEGIN:VEVENT
DTSTART;TZID=Europe/Paris:20251206T080000
DTEND;TZID=Europe/Paris:20251206T080000
DTSTAMP:20260423T163707
CREATED:20251209T153432Z
LAST-MODIFIED:20260105T084653Z
UID:12347-1765008000-1765008000@collioure.fr
SUMMARY:Le fabuleux Noël de Collioure\, une moisson d'étoiles au firmament
DESCRIPTION:« Via Llumismo\, une expérience monumentale sur le chemin de la lumière » du 12 décembre 2025 au 4 janvier 2026\, un art sans pollution lumineuseà basse consommation d’énergie\, au coeur du fabuleux Noël de Collioure. \nUn phare dans la nuit\, le village de Collioure illumine  Noël 2025 à partir du vendredi 12 décembre\, comme il le fait depuis des temps immémoriaux. \nMais depuis 3 ans\, la technique la plus pointue\, la luminographie\, conjuguée au talent artistique du « peintre de la lumière »\, bascule notre  réalité en un vaste champ de rêve brasillant. \nPorté par un patrimoine architectural remarquable\, adonisé par une longue histoire bâtie sur les flots\, le petit port catalan s’enflamme et vibre dès qu’approche la célébration de la lumière qui allume les ténèbres de l’hiver. \nEt pour vous envelopper dans son ambiance resplendissante\, la performance visuelle\, renouvelée chaque soir à partir de 18h\, « Lumières sur mer »\, inondera de ses rayons bénéfiques toute la façade maritime de la baie de Collioure\, sous la baguette de Gaspare Di Caro l’enchanteur. \n« La lumière vient se superposer sur les modèles des grands peintres »\, confie l’artiste luminographe\, nommé « El Pintor de la Luz »\, « Tout est né ici. Mettre en lumière Notre-Dame des Anges\, le modèle de tous les artistes du XXe siècle\, c’était comme une finalité\, un support qui a donné sens et forme à ma luminographie\, une gestuelle artistique qui remonte à la Renaissance quand le génial Canaletto jouait avec les clairs et les obscurs « . \nDans sa nouvelle œuvre dans la baie de Collioure\, Gaspare Di Caro  s’appuie\, sur la technicité\, les équipements et les compétences de l’entreprise de prestations techniques de l’événementiel Kéroscène\, une féérie organisée par la Mairie de Collioure. \nLe spectacle « lumières sur mer » s’invite à la table des festivités joyeuses et paisibles avec les Vendanges de Noël\, gourmandes à souhait. Pour cette 5ème édition\, le marché du terroir aux couleurs du Roussillon installé Place du 18 juin sent bon la bonne chère\, traditionnelle et réconfortante. \n  \nVOIR LE PROGRAMME COMPLET
URL:https://collioure.fr/event/le-fabuleux-noel-de-collioure-une-moisson-detoiles-au-firmament-2/
LOCATION:Sélectionner un État :
CATEGORIES:Accueil Actualité vignettes droites
ATTACH;FMTTYPE=image/jpeg:https://collioure.fr/wp-content/uploads/2025/11/Le-Fabuleux-Noel-de-Collioure.jpg
END:VEVENT
BEGIN:VEVENT
DTSTART;TZID=Europe/Paris:20251207T100000
DTEND;TZID=Europe/Paris:20251207T110000
DTSTAMP:20260423T163707
CREATED:20251117T131025Z
LAST-MODIFIED:20251124T092601Z
UID:12133-1765101600-1765105200@collioure.fr
SUMMARY:Parcours commenté des cadres "Points 2 vue"
DESCRIPTION:Départ 5 Rue de la Fraternité\, Galerie du P2V \nRéservation : https://boutique.tourisme-collioure.com/balades-commentees/parcours-commente-points-2-vue-sur-le-clocher \n 
URL:https://collioure.fr/event/parcours-commente-des-cadres-points-2-vue/
LOCATION:Sélectionner un État :
CATEGORIES:Agenda Complet,Agenda Culturel
ATTACH;FMTTYPE=image/jpeg:https://collioure.fr/wp-content/uploads/2025/11/Points2vue-glorieta-4.jpg
END:VEVENT
BEGIN:VEVENT
DTSTART;TZID=Europe/Paris:20251209T080000
DTEND;TZID=Europe/Paris:20251209T080000
DTSTAMP:20260423T163707
CREATED:20251209T154933Z
LAST-MODIFIED:20251209T155027Z
UID:12352-1765267200-1765267200@collioure.fr
SUMMARY:Ouverture du village de Noël\, sur l'esplanade Bernadi
DESCRIPTION:C’est un endroit magique digne d’un conte de Noël. Dès que vous pénétrez l’espace gardé par ces étranges peluches toute scintillantes et si bienveillantes\, la vie prend un tout autre rythme. Les parfums des épices\, cannelle\, vin chaud\, miel et autres gâteries se mêlent aux sons enivrants\, ritournelles traditionnelles\, sons rocks ou latino et aux lumières scintillantes des équilibristes de la Compagnie les Filkisstouch. \nPour garder le cap\, suivez « le vagabond bien aimé » et son orgue de barbarie\, garant de l’authenticité de cette ambiance qui n’appartient qu’aux songes de Noël. \nVillage de Noël\, ouvert du 19 décembre au 4 janvier 2026 de 11h à 23h. Fermeture exceptionnelle du 24 au 25 décembre\, 17h. \nLe 19 décembre à 18h30 ouverture officielle avec le discours du maire suivi de la fanfare les Bizzar’s et du concert de Gadjo Lolo. \nSamedi 20\, à 15h\, parade équestre\, « la Cigale et la Fourmi »\, ambiance musicale\, Axurits band et concert Deep Reason (pop-rock)
URL:https://collioure.fr/event/ouverture-du-village-de-noel-sur-lesplanade-bernadi/
LOCATION:Sélectionner un État :
CATEGORIES:Accueil Actualité vignettes droites
ATTACH;FMTTYPE=image/jpeg:https://collioure.fr/wp-content/uploads/2025/12/image.jpg
END:VEVENT
BEGIN:VEVENT
DTSTART;TZID=Europe/Paris:20251209T103000
DTEND;TZID=Europe/Paris:20251209T113000
DTSTAMP:20260423T163707
CREATED:20251203T073036Z
LAST-MODIFIED:20251203T073223Z
UID:12283-1765276200-1765279800@collioure.fr
SUMMARY:Madame Matisse s'invite à l'Office de Tourisme
DESCRIPTION:ATELIER CRÉATIF : MME MATISSE CHANGE DE LOOK  \nRéinterprétez le célèbre tableau fauve : La femme au chapeau. Peinture\, pastel ou encore collage\, transformez l’iconique portrait d’Amélie Matisse avec différentes techniques \nEn savoir plus : urlr.me/xD7Mf2
URL:https://collioure.fr/event/madame-matisse-sinvite-a-loffice-de-tourisme/
LOCATION:Office de Tourisme\, 6 rue de la république\, COLLIOURE\, 66190\, France
CATEGORIES:Agenda Complet,Agenda Culturel,Agenda sur l'Accueil
ATTACH;FMTTYPE=image/jpeg:https://collioure.fr/wp-content/uploads/2025/12/9-dec-Atelier-creatif-Vitrine-sur-le-Fauvisme.jpg
END:VEVENT
BEGIN:VEVENT
DTSTART;TZID=Europe/Paris:20251210T203000
DTEND;TZID=Europe/Paris:20251210T233000
DTSTAMP:20260423T163707
CREATED:20251118T155200Z
LAST-MODIFIED:20251119T080732Z
UID:12195-1765398600-1765409400@collioure.fr
SUMMARY:Les bobines de Collioure présentent "Soirée Redford"
DESCRIPTION:
URL:https://collioure.fr/event/les-bobines-de-collioure-presentent-soiree-redford/
LOCATION:Sélectionner un État :
CATEGORIES:Agenda Complet,Agenda Culturel
ATTACH;FMTTYPE=image/jpeg:https://collioure.fr/wp-content/uploads/2025/11/AFFICHE-Les-bobines.jpg
END:VEVENT
BEGIN:VEVENT
DTSTART;VALUE=DATE:20251212
DTEND;VALUE=DATE:20260105
DTSTAMP:20260423T163707
CREATED:20251124T090012Z
LAST-MODIFIED:20251124T090012Z
UID:12230-1765497600-1767571199@collioure.fr
SUMMARY:Lumières sur mer
DESCRIPTION:Spectacle de Luminographie par Gaspare DI CARO \n18h30 – Lancement de « Lumières sur Mer »
URL:https://collioure.fr/event/lumieres-sur-mer/
LOCATION:Sélectionner un État :
CATEGORIES:Agenda Complet,Agenda Culturel
ATTACH;FMTTYPE=image/jpeg:https://collioure.fr/wp-content/uploads/2025/11/Lumieres-sur-mer.jpg
END:VEVENT
BEGIN:VEVENT
DTSTART;TZID=Europe/Paris:20251213T110000
DTEND;TZID=Europe/Paris:20251213T180000
DTSTAMP:20260423T163707
CREATED:20251124T090656Z
LAST-MODIFIED:20251211T080822Z
UID:12234-1765623600-1765648800@collioure.fr
SUMMARY:VENDANGES DE NOEL (5ème Edition)
DESCRIPTION:11h/18h Marché de terroir – Place du 18 Juin\n11h30 – LET’S GO GROOVE \n14h00 – ROSSELLO STREET BAND \n16h00 – COBLA DES ALBERES
URL:https://collioure.fr/event/vendanges-de-noel-4eme-edition/
LOCATION:Place du 18 juin\, Place du 18 juin\, Collioure\, 66190\, France
CATEGORIES:Agenda Complet,Agenda Culturel
END:VEVENT
BEGIN:VEVENT
DTSTART;TZID=Europe/Paris:20251217T093000
DTEND;TZID=Europe/Paris:20251217T120000
DTSTAMP:20260423T163707
CREATED:20251104T072649Z
LAST-MODIFIED:20251124T092510Z
UID:11862-1765963800-1765972800@collioure.fr
SUMMARY:Permanence Urbanisme - Architecte des Bâtiments de France
DESCRIPTION:
URL:https://collioure.fr/event/permanence-urbanisme-architecte-des-batiments-de-france/
LOCATION:Mairie de Collioure\, 3\, rue de la république\, Collioure\, 66190\, France
CATEGORIES:Agenda Complet
ATTACH;FMTTYPE=image/jpeg:https://collioure.fr/wp-content/uploads/2025/10/Permanence-urbanisme-2nd-semestre-2025.jpg
END:VEVENT
BEGIN:VEVENT
DTSTART;TZID=Europe/Paris:20251217T170000
DTEND;TZID=Europe/Paris:20251217T180000
DTSTAMP:20260423T163707
CREATED:20251205T072336Z
LAST-MODIFIED:20251205T072336Z
UID:12300-1765990800-1765994400@collioure.fr
SUMMARY:Spectacle en lumière - Badaboum biscotte
DESCRIPTION:Chansons à tartiner pour petits et grands
URL:https://collioure.fr/event/spectacle-en-lumiere-badaboum-biscotte/
LOCATION:Château Royal de Collioure\, Quai de l'Amirauté\, Collioure\, 66190\, France
CATEGORIES:Agenda Complet,Agenda Culturel,Agenda sur l'Accueil
ATTACH;FMTTYPE=image/jpeg:https://collioure.fr/wp-content/uploads/2025/12/12-noel-COLLIOURE-A3-25-01.jpg
END:VEVENT
BEGIN:VEVENT
DTSTART;TZID=Europe/Paris:20251219T110000
DTEND;TZID=Europe/Paris:20260104T170000
DTSTAMP:20260423T163707
CREATED:20251124T092421Z
LAST-MODIFIED:20251126T110847Z
UID:12236-1766142000-1767546000@collioure.fr
SUMMARY:Le fabuleux Noël de Collioure
DESCRIPTION:Village de Noël – Du Vendredi 19 décembre au Dimanche 4 Janvier 2025  –  – Fermeture exceptionnelle du 24 à 17h au 25 à 17h \nVendredi 5 décembre\n17h – spectacle pour  enfants sur la place du 18 juin avec la compagnie CIELO et gouter offert par la municipalité.\n18h00 – Inauguration de la Galerie du Tenydor et vernissage de l’exposition des artistes de Collioure\nAnimation musicale sur la place du 18 juin avec BIM BRASS \n\nSAMEDI 6 DÉCEMBRE\nTéléthon\n8h – Cals\, seiches et poulpes (démonstration de pêche\, Port)\n9h – Randonnée 8 km (départ Centre Culturel\, association des Randonnées Colliourencques)\n20h30 – Théâtre « Les Diablogues »\nCompagnie Antidotes & Scène Création – Entrée 5 € (au profit du Téléthon) \nAnimations côté Village\n11h30 – Los Tropicos de Noël\n18h00 – CIELO\n18h00 & 19h30 – Les Géants d’Argelès (2 × 45 min)\nPoneys – Place Leclerc\nMissymagfly Makeup – Place du 18 Juin\nJeux de bois – Place du 18 Juin \nAnimations côté Faubourg\n11h00 – 18h00 – Los Tropicos de Noël\n13h00 – 17h00 – CIELO\nPrésence des Géants d’Argelès\nPoursuite de l’Espace Noël – Place du 18 Juin \n\nDIMANCHE 7 DÉCEMBRE\nTéléthon\n15h – Théâtre « Les Diablogues »\nCompagnie Antidotes & Scène Création – Entrée 5 € (au profit du Téléthon) \nAnimations côté Village\n15h00 – 18h00 – Le Vagabond bien aimé\nLes Géants d’Argelès\nMissymagfly Makeup – Place du 18 Juin \nAnimations côté Faubourg\n11h00 – 15h00 – Le Vagabond bien aimé\nLes Géants d’Argelès\nManège à Sulky (chevaux à pédales) – Esplanade Bernadi\nPoursuite de l’Espace Noël – Place du 18 Juin \n\nVENDREDI 12 DÉCEMBRE – LUMIÈRES SUR MER (12 décembre au 4 janvier)\n18h00 – Lancement de « Lumières sur Mer » \nAnimations\n17h – Goûter de Noël (sortie des écoles) organisé par Les Petites Mains\nCompagnie Achille Bataille – Déambulation jusqu’au Centre Culturel \n\nSAMEDI 13 DÉCEMBRE – VENDANGES DE NOËL (4e édition)\nPlace du 18 Juin\n11h00 – 18h00 – Marché de terroir\n11h30 – Let’s Go Groove\n14h00 – Rossello Street Band\n16h00 – Cobla des Alberes \n\nVENDREDI 19 DÉCEMBRE – OUVERTURE DU VILLAGE DE NOËL\n(Village ouvert du 19 décembre au 4 janvier – 11h à 23h)\n(Fermeture exceptionnelle le 24 à 17h\, réouverture le 25 à 17h) \n11h00 – 18h00 – Orgue de barbarie « Le Vagabond bien aimé »\n18h00 – Parade d’ouverture « La Lumière à tous les étages » – Cie Les Filkisstouch\n18h30 – Discours du Maire\n19h30 – Fanfare Les Bizzar’s\n21h30 – Concert Gadjo Lolo \n\nSAMEDI 20 DÉCEMBRE – JOURNÉE DE CLÔTURE (PROGRAMME SPÉCIAL)\nPlace du 18 Juin\n18h00 – Exposition des Petits Peintres\nTirage au sort des Petits Peintres\nTirage de la loterie « Vitrine de Noël »\nVin chaud & marrons (à confirmer)\nJeux gonflables \nVillage de Noël\n10h00 – 17h00 – Moov Toi (jeux enfants) – Place du 18 Juin\n11h00 – 18h00 – Orgue de barbarie\n14h00 – 17h00 – Maquillage enfants – Place du 18 Juin\n15h00 – Parade équestre (thème : « La Cigale et la Fourmi »)\n18h30 – Pessebre – Église\n11h30 & 17h30 – Axurits Band\n20h30 – Concert Deep Reason (pop-rock) \n\nDIMANCHE 21 DÉCEMBRE\n10h – Corrida de Noël (course pédestre) – Départ Boramar \nVillage de Noël\n11h30 & 17h30 – Els Tirons\n14h00 – 17h00 – Maquillage enfants (Rêves Colorées)\n20h30 – Concert Konvoi Exceptionnel \n\nLUNDI 22 DÉCEMBRE\n11h30 & 17h30 – Monjet Fanfare\n20h30 – Swing Sam Soul \n\nMARDI 23 DÉCEMBRE\n11h30 & 17h30 – Los Tropicanos\n20h30 – Les Mals Parits \n\nMERCREDI 24 DÉCEMBRE\n10h – Marché aux truffes – Pont du Café Sola\n11h30 – Concert Lili Charles\n15h00 – Arrivée du Père Noël \n\nJEUDI 25 DÉCEMBRE\n18h30 – DJ Select Aioli (avec sa 2 CV) \n\nVENDREDI 26 DÉCEMBRE\n11h30 – La Belle Étoile\n14h00 – 17h00 – Maquillage enfants\n17h00 – Animation Mascottes\n20h30 – Soirée Années 80 – Fred Erikson \n\nSAMEDI 27 DÉCEMBRE\n11h00 – 18h00 – Orgue de barbarie\n14h00 – 17h00 – Maquillage enfants\n11h30 & 17h30 – Canal Combo\n20h30 – Concert The Trouple \n\nDIMANCHE 28 DÉCEMBRE\n11h00 – 18h00 – Orgue de barbarie\n11h30 – Duo Ephémère\n14h00 – 17h00 – Maquillage enfants\n19h00 – DJ Greg \n\nLUNDI 29 DÉCEMBRE\n11h30 – Couleur Café\n19h00 – Sound System « La Camionnette » \n\nMARDI 30 DÉCEMBRE\n11h30 & 17h30 – Taraf Goulamas\n19h00 – DJ Mika et Lisa Young (violon) \n\nMERCREDI 31 DÉCEMBRE – SAINT-SYLVESTRE\n0h00 – Feu d’artifice sur la baie de Collioure\n19h00 – 00h30 – DJ Fred Erikson – Place du 18 Juin\n22h00 – DJ Set DJ Mika – Village de Noël\n0h15 – DJ Mika (deuxième set)\n2h30 – Fermeture du village et fin des festivités \nProgramme « L’Odyssée des pirates » – Réveillon officiel \n19h00 – Discours du Maire – Place du 18 Juin\n19h15 – Ouverture des comptoirs festifs – Boramar\n22h00 – Bal de la Saint-Sylvestre avec Fred Erikson et DJ Renaud – Place du 18 Juin\n22h00 – Soirée DJ Mika (première partie) – Village de Noël\n0h00 – Feu d’artifice\n0h15 – Bal de la Saint-Sylvestre et deuxième set DJ Mika\n2h30 – Fin des festivités \nJEUDI 1er JANVIER 2026\n11h – Concert du Nouvel An\nOrchestre Perpignan Catalogne – Direction Daniel Tosi – Église Notre-Dame-des-Anges\n19h – Village de Noel : Sound System « La Camionnette » \n\nVENDREDI 2 JANVIER – village de Noel\n11h30 – Romulus (musique brésilienne)\n14h00 – 17h00 – Maquillage enfants\n20h30 – Concert Mister Leu & The Nyabinghers \n\nSAMEDI 3 JANVIER\n11h – Vœux du Maire – Centre Culturel\n11h00 – 18h00 – Orgue de barbarie \nVillage de Noel \n11h30 – Alex et les Bretelles\n14h00 – 17h00 – Maquillage enfants\n19h00 – DJ Mika & Seb Sax (closing du Village de Noël) \n\nDIMANCHE 4 JANVIER 2026 – village de Noel \n11h00 – 18h00 – Orgue de barbarie\n11h30 – Romulus (musique brésilienne)\n14h00 – 17h00 – Maquillage enfants \n 
URL:https://collioure.fr/event/le-fabuleux-noel-de-collioure/
LOCATION:Sélectionner un État :
CATEGORIES:Agenda Complet,Agenda Culturel,Agenda sur l'Accueil
ATTACH;FMTTYPE=image/jpeg:https://collioure.fr/wp-content/uploads/2025/11/Le-Fabuleux-Noel-de-Collioure.jpg
END:VEVENT
BEGIN:VEVENT
DTSTART;TZID=Europe/Paris:20251220T183000
DTEND;TZID=Europe/Paris:20251220T203000
DTSTAMP:20260423T163707
CREATED:20251216T084953Z
LAST-MODIFIED:20251216T094635Z
UID:12471-1766255400-1766262600@collioure.fr
SUMMARY:Pessebre vivent
DESCRIPTION:
URL:https://collioure.fr/event/pessebre-vivent/
LOCATION:Eglise Notre-Dame-des-Anges
CATEGORIES:Agenda Complet,Agenda Culturel,Agenda sur l'Accueil
ATTACH;FMTTYPE=image/jpeg:https://collioure.fr/wp-content/uploads/2025/12/Pessebre-2025.jpg
END:VEVENT
BEGIN:VEVENT
DTSTART;TZID=Europe/Paris:20251223T100000
DTEND;TZID=Europe/Paris:20251223T170000
DTSTAMP:20260423T163707
CREATED:20251217T140129Z
LAST-MODIFIED:20251217T143117Z
UID:12484-1766484000-1766509200@collioure.fr
SUMMARY:LES ATELIERS ENFANT: PUZZLE\, JEUX\, COLORIAGES … S'INVITENT À L'OFFICE DE TOURISME !
DESCRIPTION:Descriptif : Vous êtes en famille à Collioure ? Faites une pause à l’Office de Tourisme et partagez un moment ludique avec vos enfants grâce à nos ateliers spécialement conçus pour eux ! \nPuzzles de Collioure\, memory\, jeu des 7 différences\, coloriages\, rébus… de nombreuses activités amusantes vous attendent. \n  \nEn savoir plus : https://www.tourisme-collioure.com/fete-manifestation/les-ateliers-enfant-puzzle-jeux-coloriages-sinvitent-a-loffice-de-tourisme/ \n10h à 12h – 15h à 17h\nOffice de Tourisme\n6\, rue de la république 66400 Collioure\n04 68 82 15 47
URL:https://collioure.fr/event/les-ateliers-enfant-puzzle-jeux-coloriages-sinvitent-a-loffice-de-tourisme/
LOCATION:Sélectionner un État :
CATEGORIES:Agenda Complet,Agenda Culturel,Agenda sur l'Accueil
ATTACH;FMTTYPE=image/jpeg:https://collioure.fr/wp-content/uploads/2025/12/23-dec-Atelier-enfant.jpg
END:VEVENT
BEGIN:VEVENT
DTSTART;TZID=Europe/Paris:20251226T140000
DTEND;TZID=Europe/Paris:20251226T170000
DTSTAMP:20260423T163707
CREATED:20251117T140600Z
LAST-MODIFIED:20251118T112056Z
UID:12151-1766757600-1766768400@collioure.fr
SUMMARY:Les RDV de l’OT – Ciné balade
DESCRIPTION:Baladez-vous dans Collioure et vivez un voyage cinématographique en parcourant les lieux où ont été tournés les films ! \nRevivez à l’époque d’un autre temps et nourrissez-vous des nombreuses anecdotes et petites histoires qui viennent ponctuer la visite … \nMettez-vous dans la peau des acteurs qui ont joué sur les lieux où vous vous trouvez et plongez-vous dans la scène du « Petit baigneur » sur la plage du faubourg \nEn fin de parcours\, entrez dans le bar « Les templiers »\, lieu artistique historique et emblématique des années 1920. Vous pourrez profiter d’un apéritif rafraîchissant. \nA l’étage\, découvrez les extraits de films que la guide vous a parlé. Vous reconnaîtrez très bien les lieux et visionnerez les différentes scènes évoquées tout au long de la balade ! \n« Un tour d’horizon cinématographique\, balade commentée cinéphile\, vous découvrirez ou redécouvrirez Collioure sous un tout nouvel angle ! « \n\nListe des films retenus :\n     – Le fils de Caroline Chérie de Jean Devaivre avec Brigitte Bardot et Jean-Claude Pascal\n     – La fête espagnole de Jean-Jacques Vierne avec Peter Van Eyck et Daliah Lavi\n     – Et Satan conduit le bal de Grisha Dabat et Roger Vadim avec Catherine Deneuve et Jacques Perrin\n     – Le petit baigneur de Robert Dhéry avec Robert Dhéry\, Colette Brosset et Michel Galabru\n     – J’ai oublié de te dire de Laurent Vinas-Raymond avec Omar Sharif et Emilie Dequenne\n     – Je suis heureux que ma mère soit vivante de Claude Miller avec Vincent Rottiers\n\n\nRéservation :\nhttps://boutique.tourisme-collioure.com/cine-balades/cine-balades \n\nTout public\nDurée : 3h\nQuiz gratuit\, ciné balade payant
URL:https://collioure.fr/event/les-rdv-de-lot-cine-balade-2/
LOCATION:Office de Tourisme\, 6 rue de la république\, COLLIOURE\, 66190\, France
CATEGORIES:Agenda Complet,Agenda Culturel
ATTACH;FMTTYPE=image/jpeg:https://collioure.fr/wp-content/uploads/2025/11/26-dec-Cine-balade.jpg
END:VEVENT
BEGIN:VEVENT
DTSTART;TZID=Europe/Paris:20251230T160000
DTEND;TZID=Europe/Paris:20251230T173000
DTSTAMP:20260423T163707
CREATED:20251210T141523Z
LAST-MODIFIED:20251210T142538Z
UID:12358-1767110400-1767115800@collioure.fr
SUMMARY:RÔMULUS DO BRASIL S’INVITE À L’OT
DESCRIPTION:Animation musicale de musique du monde : sambas\, bossas\, cumbia\, ainsi que des chansons françaises\, espagnoles et italiennes \nEn savoir plus : https://www.tourisme-collioure.com/fete-manifestation/romulus-do-brasil-sinvite-a-lot/
URL:https://collioure.fr/event/romulus-do-brasil-sinvite-a-lot/
LOCATION:Office de Tourisme\, 6 rue de la république\, COLLIOURE\, 66190\, France
CATEGORIES:Agenda Complet,Agenda Culturel,Agenda sur l'Accueil
ATTACH;FMTTYPE=image/jpeg:https://collioure.fr/wp-content/uploads/2025/12/30-dec-Romulus.jpg
END:VEVENT
BEGIN:VEVENT
DTSTART;TZID=Europe/Paris:20251231T190000
DTEND;TZID=Europe/Paris:20251231T233000
DTSTAMP:20260423T163707
CREATED:20251230T085603Z
LAST-MODIFIED:20251230T105506Z
UID:12563-1767207600-1767223800@collioure.fr
SUMMARY:Réveillon de la Saint Sylvestre
DESCRIPTION:Programme « L’Odyssée des pirates » – Réveillon officiel \n19h00 – Discours du Maire – Place du 18 Juin\n19h15 – Ouverture des comptoirs festifs – Boramar\n22h00 – Bal de la Saint-Sylvestre avec Fred Erikson et DJ Renaud – Place du 18 Juin\n22h00 – Soirée DJ Mika (première partie) – Village de Noël\n0h00 – Feu d’artifice\n0h15 – Bal de la Saint-Sylvestre et deuxième set DJ Mika\n2h30 – Fin des festivités
URL:https://collioure.fr/event/reveillon-de-la-saint-sylvestre/
LOCATION:Sélectionner un État :
CATEGORIES:Agenda Complet,Agenda Culturel,Agenda sur l'Accueil
ATTACH;FMTTYPE=image/jpeg:https://collioure.fr/wp-content/uploads/2025/12/Odyssee-des-pirates.jpg
END:VEVENT
END:VCALENDAR